BEGIN:VCALENDAR
VERSION:2.0
PRODID:-//Appleton Boychoir - ECPv6.15.19//NONSGML v1.0//EN
CALSCALE:GREGORIAN
METHOD:PUBLISH
X-WR-CALNAME:Appleton Boychoir
X-ORIGINAL-URL:https://www.appletonboychoir.com
X-WR-CALDESC:Events for Appleton Boychoir
REFRESH-INTERVAL;VALUE=DURATION:PT1H
X-Robots-Tag:noindex
X-PUBLISHED-TTL:PT1H
BEGIN:VTIMEZONE
TZID:America/Chicago
BEGIN:DAYLIGHT
TZOFFSETFROM:-0600
TZOFFSETTO:-0500
TZNAME:CDT
DTSTART:20180311T080000
END:DAYLIGHT
BEGIN:STANDARD
TZOFFSETFROM:-0500
TZOFFSETTO:-0600
TZNAME:CST
DTSTART:20181104T070000
END:STANDARD
BEGIN:DAYLIGHT
TZOFFSETFROM:-0600
TZOFFSETTO:-0500
TZNAME:CDT
DTSTART:20190310T080000
END:DAYLIGHT
BEGIN:STANDARD
TZOFFSETFROM:-0500
TZOFFSETTO:-0600
TZNAME:CST
DTSTART:20191103T070000
END:STANDARD
BEGIN:DAYLIGHT
TZOFFSETFROM:-0600
TZOFFSETTO:-0500
TZNAME:CDT
DTSTART:20200308T080000
END:DAYLIGHT
BEGIN:STANDARD
TZOFFSETFROM:-0500
TZOFFSETTO:-0600
TZNAME:CST
DTSTART:20201101T070000
END:STANDARD
END:VTIMEZONE
BEGIN:VEVENT
DTSTART;TZID=America/Chicago:20190908T140000
DTEND;TZID=America/Chicago:20190908T160000
DTSTAMP:20260422T080849
CREATED:20190730T145238Z
LAST-MODIFIED:20240930T205202Z
UID:10000099-1567951200-1567958400@www.appletonboychoir.com
SUMMARY:Songfest
DESCRIPTION:2nd Annual Songfest – a Community Sing Event kicks off the Appleton Boychoir 2019-2020 season with a carnival-like\, family-friendly event at Pierce Park in Appleton. There will be balloon twisting\, face painting\, food trucks\, sing-a-longs led by the Appleton Boychoir and other special guests.
URL:https://www.appletonboychoir.com/event/songfest/
LOCATION:Pierce Park and Bandshell\, 1035 W Prospect Ave\, Appleton\, WI\, 54914
CATEGORIES:Public Concerts
END:VEVENT
END:VCALENDAR