BEGIN:VCALENDAR
VERSION:2.0
PRODID:-//Appleton Boychoir - ECPv6.15.19//NONSGML v1.0//EN
CALSCALE:GREGORIAN
METHOD:PUBLISH
X-ORIGINAL-URL:https://www.appletonboychoir.com
X-WR-CALDESC:Events for Appleton Boychoir
REFRESH-INTERVAL;VALUE=DURATION:PT1H
X-Robots-Tag:noindex
X-PUBLISHED-TTL:PT1H
BEGIN:VTIMEZONE
TZID:America/Chicago
BEGIN:DAYLIGHT
TZOFFSETFROM:-0600
TZOFFSETTO:-0500
TZNAME:CDT
DTSTART:20240310T080000
END:DAYLIGHT
BEGIN:STANDARD
TZOFFSETFROM:-0500
TZOFFSETTO:-0600
TZNAME:CST
DTSTART:20241103T070000
END:STANDARD
BEGIN:DAYLIGHT
TZOFFSETFROM:-0600
TZOFFSETTO:-0500
TZNAME:CDT
DTSTART:20250309T080000
END:DAYLIGHT
BEGIN:STANDARD
TZOFFSETFROM:-0500
TZOFFSETTO:-0600
TZNAME:CST
DTSTART:20251102T070000
END:STANDARD
BEGIN:DAYLIGHT
TZOFFSETFROM:-0600
TZOFFSETTO:-0500
TZNAME:CDT
DTSTART:20260308T080000
END:DAYLIGHT
BEGIN:STANDARD
TZOFFSETFROM:-0500
TZOFFSETTO:-0600
TZNAME:CST
DTSTART:20261101T070000
END:STANDARD
END:VTIMEZONE
BEGIN:VEVENT
DTSTART;TZID=America/Chicago:20251213T130000
DTEND;TZID=America/Chicago:20251213T130000
DTSTAMP:20260422T151240
CREATED:20251105T213806Z
LAST-MODIFIED:20251105T213806Z
UID:10000160-1765630800-1765630800@www.appletonboychoir.com
SUMMARY:A Festival of Nine Lessons and Carols - Saturday Matinee
DESCRIPTION:It all begins with a quiet voice…a solo boy soprano. Then a grand procession of singers to the stage accompanied by the majestic pipes of the Brombaugh organ. Finally\, a trumpeting brass choir joins and Christmas is welcomed once more! \nThe angelic voices of the Appleton Boychoir present A FESTIVAL OF NINE LESSONS AND CAROLS. One hundred men and boys are joined by Copper Street Brass\, instrumentalists of all kinds\, and organist Devin Atteln. From one lone voice to soaring descants and hymns rich with seasonal joy…the imposing beauty of the Lawrence Memorial Chapel will ring with the sounds of Christmas!
URL:https://www.appletonboychoir.com/event/a-festival-of-nine-lessons-and-carols-saturday-matinee-2/
LOCATION:Lawrence Memorial Chapel\, 510 E College Ave\, Appleton\, WI\, 54911\, United States
CATEGORIES:Public Concerts,Show on Homepage
ORGANIZER;CN="Appleton Boychoir":MAILTO:info@appletonboychoir.com
END:VEVENT
BEGIN:VEVENT
DTSTART;TZID=America/Chicago:20251213T160000
DTEND;TZID=America/Chicago:20251213T160000
DTSTAMP:20260422T151240
CREATED:20251105T213933Z
LAST-MODIFIED:20251105T213933Z
UID:10000161-1765641600-1765641600@www.appletonboychoir.com
SUMMARY:A Festival of Nine Lessons and Carols - Saturday Evening
DESCRIPTION:It all begins with a quiet voice…a solo boy soprano. Then a grand procession of singers to the stage accompanied by the majestic pipes of the Brombaugh organ. Finally\, a trumpeting brass choir joins and Christmas is welcomed once more! \nThe angelic voices of the Appleton Boychoir present A FESTIVAL OF NINE LESSONS AND CAROLS. One hundred men and boys are joined by Copper Street Brass\, instrumentalists of all kinds\, and organist Devin Atteln. From one lone voice to soaring descants and hymns rich with seasonal joy…the imposing beauty of the Lawrence Memorial Chapel will ring with the sounds of Christmas!
URL:https://www.appletonboychoir.com/event/a-festival-of-nine-lessons-and-carols-saturday-evening-2/
LOCATION:Lawrence Memorial Chapel\, 510 E College Ave\, Appleton\, WI\, 54911\, United States
CATEGORIES:Public Concerts,Show on Homepage
ORGANIZER;CN="Appleton Boychoir":MAILTO:info@appletonboychoir.com
END:VEVENT
END:VCALENDAR