BEGIN:VCALENDAR
VERSION:2.0
PRODID:-//Appleton Boychoir - ECPv6.15.19//NONSGML v1.0//EN
CALSCALE:GREGORIAN
METHOD:PUBLISH
X-WR-CALNAME:Appleton Boychoir
X-ORIGINAL-URL:https://www.appletonboychoir.com
X-WR-CALDESC:Events for Appleton Boychoir
REFRESH-INTERVAL;VALUE=DURATION:PT1H
X-Robots-Tag:noindex
X-PUBLISHED-TTL:PT1H
BEGIN:VTIMEZONE
TZID:America/Chicago
BEGIN:DAYLIGHT
TZOFFSETFROM:-0600
TZOFFSETTO:-0500
TZNAME:CDT
DTSTART:20180311T080000
END:DAYLIGHT
BEGIN:STANDARD
TZOFFSETFROM:-0500
TZOFFSETTO:-0600
TZNAME:CST
DTSTART:20181104T070000
END:STANDARD
BEGIN:DAYLIGHT
TZOFFSETFROM:-0600
TZOFFSETTO:-0500
TZNAME:CDT
DTSTART:20190310T080000
END:DAYLIGHT
BEGIN:STANDARD
TZOFFSETFROM:-0500
TZOFFSETTO:-0600
TZNAME:CST
DTSTART:20191103T070000
END:STANDARD
BEGIN:DAYLIGHT
TZOFFSETFROM:-0600
TZOFFSETTO:-0500
TZNAME:CDT
DTSTART:20200308T080000
END:DAYLIGHT
BEGIN:STANDARD
TZOFFSETFROM:-0500
TZOFFSETTO:-0600
TZNAME:CST
DTSTART:20201101T070000
END:STANDARD
END:VTIMEZONE
BEGIN:VEVENT
DTSTART;TZID=America/Chicago:20190420T160000
DTEND;TZID=America/Chicago:20190420T160000
DTSTAMP:20260423T030056
CREATED:20180621T062026Z
LAST-MODIFIED:20240930T205203Z
UID:10000061-1555776000-1555776000@www.appletonboychoir.com
SUMMARY:The 40th Anniversary Spring Concert
DESCRIPTION:Let’s Celebrate!!  Join the Boys in a grand 40th Anniversary musical celebration.  Featuring alumni singers from all generations…even stretching back to 1979!  The Fox Cities Performing Arts Center will come alive with the powerful and soaring voices of the Appleton Boychoir and the deep\, rich voices of adult men.  The concert will conclude with a World Premiere Performance commissioned for this concert from the renowned Greek composer – Lina Tonia.  The evening will be filled with musical surprises\, significant music and playful moments that simply cannot be missed. Get Your Tickets Now!
URL:https://www.appletonboychoir.com/event/the-40th-anniversary-spring-concert/
LOCATION:Fox Cities Performing Arts Center\, 400 W College Ave\, Appleton\,\, WI\, 54911
CATEGORIES:Public Concerts
ATTACH;FMTTYPE=image/jpeg:https://www.appletonboychoir.com/wp-content/uploads/2018/11/100218_ABC_Spring_Facebook_EVENT_Cover.jpg
END:VEVENT
BEGIN:VEVENT
DTSTART;TZID=America/Chicago:20190420T151500
DTEND;TZID=America/Chicago:20190420T160000
DTSTAMP:20260423T030056
CREATED:20190204T200153Z
LAST-MODIFIED:20240930T205203Z
UID:10000070-1555773300-1555776000@www.appletonboychoir.com
SUMMARY:40th Anniversary Call REPERTOIRE
DESCRIPTION:Repertoire Choir Call
URL:https://www.appletonboychoir.com/event/40th-anniversary-call-repertoire/
LOCATION:Fox Cities Performing Arts Center\, 400 W College Ave\, Appleton\, WI 54911\, USA\, 100 W College Ave\, United States
CATEGORIES:parent-events
GEO:44.261817;-88.405949
X-APPLE-STRUCTURED-LOCATION;VALUE=URI;X-ADDRESS=Fox Cities Performing Arts Center 400 W College Ave Appleton WI 54911 USA 100 W College Ave United States;X-APPLE-RADIUS=500;X-TITLE=100 W College Ave:geo:-88.405949,44.261817
END:VEVENT
BEGIN:VEVENT
DTSTART;TZID=America/Chicago:20190420T143000
DTEND;TZID=America/Chicago:20190420T153000
DTSTAMP:20260423T030056
CREATED:20190204T200153Z
LAST-MODIFIED:20240930T205203Z
UID:10000069-1555770600-1555774200@www.appletonboychoir.com
SUMMARY:40th Anniversary Call AMBASSADOR
DESCRIPTION:Ambassador Choir Call time
URL:https://www.appletonboychoir.com/event/40th-anniversary-call-ambassador/
LOCATION:Fox Cities Performing Arts Center\, 400 W College Ave\, Appleton\, WI 54911\, USA\, 100 W College Ave\, United States
CATEGORIES:parent-events
GEO:44.261817;-88.405949
X-APPLE-STRUCTURED-LOCATION;VALUE=URI;X-ADDRESS=Fox Cities Performing Arts Center 400 W College Ave Appleton WI 54911 USA 100 W College Ave United States;X-APPLE-RADIUS=500;X-TITLE=100 W College Ave:geo:-88.405949,44.261817
END:VEVENT
BEGIN:VEVENT
DTSTART;TZID=America/Chicago:20190420T133000
DTEND;TZID=America/Chicago:20190420T153000
DTSTAMP:20260423T030056
CREATED:20190204T200153Z
LAST-MODIFIED:20240930T205203Z
UID:10000068-1555767000-1555774200@www.appletonboychoir.com
SUMMARY:40th Anniversary Call Chamber
DESCRIPTION:Chamber Call time 1:30 pm
URL:https://www.appletonboychoir.com/event/40th-anniversary-call-chamber/
LOCATION:Fox Valley PAC\, 400 E College Ave\, Appleton\, WI 54911\, 400 E College Ave\, Appleton\, WI\, 54911\, United States
CATEGORIES:parent-events
GEO:44.261817;-88.405949
X-APPLE-STRUCTURED-LOCATION;VALUE=URI;X-ADDRESS=Fox Valley PAC 400 E College Ave Appleton WI 54911 400 E College Ave Appleton WI 54911 United States;X-APPLE-RADIUS=500;X-TITLE=400 E College Ave:geo:-88.405949,44.261817
END:VEVENT
BEGIN:VEVENT
DTSTART;TZID=America/Chicago:20190420T110000
DTEND;TZID=America/Chicago:20190420T124500
DTSTAMP:20260423T030056
CREATED:20190204T200153Z
LAST-MODIFIED:20240930T205203Z
UID:10000067-1555758000-1555764300@www.appletonboychoir.com
SUMMARY:40th Anniversary Rehearsal REPERTOIRE
DESCRIPTION:Repertoire Choir Rehearsal
URL:https://www.appletonboychoir.com/event/40th-anniversary-rehearsal-repertoire/
LOCATION:Fox Cities Performing Arts Center\, 400 W College Ave\, Appleton\, WI 54911\, USA\, 100 W College Ave\, United States
CATEGORIES:parent-events
GEO:44.261817;-88.405949
X-APPLE-STRUCTURED-LOCATION;VALUE=URI;X-ADDRESS=Fox Cities Performing Arts Center 400 W College Ave Appleton WI 54911 USA 100 W College Ave United States;X-APPLE-RADIUS=500;X-TITLE=100 W College Ave:geo:-88.405949,44.261817
END:VEVENT
BEGIN:VEVENT
DTSTART;TZID=America/Chicago:20190420T100000
DTEND;TZID=America/Chicago:20190420T120000
DTSTAMP:20260423T030056
CREATED:20190403T160014Z
LAST-MODIFIED:20240930T205203Z
UID:10000087-1555754400-1555761600@www.appletonboychoir.com
SUMMARY:40th Anniversary Rehearsal AMBASSADOR
DESCRIPTION:Ambassador Choir Rehearsal
URL:https://www.appletonboychoir.com/event/40th-anniversary-rehearsal-ambassador-3/
LOCATION:Fox Cities Performing Arts Center\, 400 W College Ave\, Appleton\, WI 54911\, USA\, 100 W College Ave\, United States
CATEGORIES:parent-events
GEO:44.261817;-88.405949
X-APPLE-STRUCTURED-LOCATION;VALUE=URI;X-ADDRESS=Fox Cities Performing Arts Center 400 W College Ave Appleton WI 54911 USA 100 W College Ave United States;X-APPLE-RADIUS=500;X-TITLE=100 W College Ave:geo:-88.405949,44.261817
END:VEVENT
BEGIN:VEVENT
DTSTART;TZID=America/Chicago:20190420T090000
DTEND;TZID=America/Chicago:20190420T180000
DTSTAMP:20260423T030056
CREATED:20190204T200153Z
LAST-MODIFIED:20240930T205203Z
UID:10000066-1555750800-1555783200@www.appletonboychoir.com
SUMMARY:40TH ANNIVERSARY - SEE DETAILS FOR TIMES
DESCRIPTION:ALL CHOIRS – ALL BOYS – ALL ALUMNI – ALL MENFINAL REHEARSAL TIMES: \n\nChamberSingers 9:00 AM – 10:00 AM\nAMBASSADOR + ALL ALUMNI & ALL MEN – 10:00 AM – NOON\nREPERTOIRE – 11:00 AM – 12:30 PM\n\nRETURN CALL TIMES: \n\nCHAMBERSINGERS ONLY – 1:30 – 2:30 PM – DRESS REHEARSAL\nAMBASSADOR CHOIR – 2:30 – 3:30 PM – DRESS REHEARSAL\nREPERTOIRE CHOIR – 3:15 – CALL TIME\n\nPERFORMANCE – 4:00 PM \nAs always watch for updates/changes as the dates near.
URL:https://www.appletonboychoir.com/event/40th-anniversary-see-details-for-times/
LOCATION:Fox Cities Performing Arts Center\, 400 W College Ave\, Appleton\, WI 54911\, USA\, 100 W College Ave\, United States
CATEGORIES:parent-events
GEO:44.261817;-88.405949
X-APPLE-STRUCTURED-LOCATION;VALUE=URI;X-ADDRESS=Fox Cities Performing Arts Center 400 W College Ave Appleton WI 54911 USA 100 W College Ave United States;X-APPLE-RADIUS=500;X-TITLE=100 W College Ave:geo:-88.405949,44.261817
END:VEVENT
BEGIN:VEVENT
DTSTART;TZID=America/Chicago:20190420T090000
DTEND;TZID=America/Chicago:20190420T100000
DTSTAMP:20260423T030056
CREATED:20190403T160014Z
LAST-MODIFIED:20240930T205204Z
UID:10000088-1555750800-1555754400@www.appletonboychoir.com
SUMMARY:40th Anniversary Rehearsal CHAMBER
DESCRIPTION:Chamber Only Rehearsal
URL:https://www.appletonboychoir.com/event/40th-anniversary-rehearsal-chamber/
LOCATION:Fox Valley PAC\, 400 E College Ave\, Appleton\, WI 54911\, 400 E College Ave\, Appleton\, WI\, 54911\, United States
CATEGORIES:parent-events
GEO:44.261817;-88.405949
X-APPLE-STRUCTURED-LOCATION;VALUE=URI;X-ADDRESS=Fox Valley PAC 400 E College Ave Appleton WI 54911 400 E College Ave Appleton WI 54911 United States;X-APPLE-RADIUS=500;X-TITLE=400 E College Ave:geo:-88.405949,44.261817
END:VEVENT
BEGIN:VEVENT
DTSTART;TZID=America/Chicago:20190419T183000
DTEND;TZID=America/Chicago:20190419T210000
DTSTAMP:20260423T030056
CREATED:20190403T160013Z
LAST-MODIFIED:20240930T205204Z
UID:10000086-1555698600-1555707600@www.appletonboychoir.com
SUMMARY:AMBASSADOR Rehearsal
DESCRIPTION:Ambassador Choir Rehearsal
URL:https://www.appletonboychoir.com/event/ambassador-rehearsal/
LOCATION:Fox Cities Performing Arts Center\, 400 W College Ave\, Appleton\, WI 54911\, USA\, 100 W College Ave\, United States
CATEGORIES:parent-events
GEO:44.261817;-88.405949
X-APPLE-STRUCTURED-LOCATION;VALUE=URI;X-ADDRESS=Fox Cities Performing Arts Center 400 W College Ave Appleton WI 54911 USA 100 W College Ave United States;X-APPLE-RADIUS=500;X-TITLE=100 W College Ave:geo:-88.405949,44.261817
END:VEVENT
BEGIN:VEVENT
DTSTART;TZID=America/Chicago:20190419T163000
DTEND;TZID=America/Chicago:20190419T210000
DTSTAMP:20260423T030056
CREATED:20220214T145240Z
LAST-MODIFIED:20240930T205204Z
UID:10000108-1555691400-1555707600@www.appletonboychoir.com
SUMMARY:AMBASSADOR & ALL MEN REHEARSAL - SEE DETAILS FOR TIMES
DESCRIPTION:AMBASSADOR & ALL ALUMNI & ALL MEN with Composer Lina Tonia \nTIMES:CHAMBERSINGERS ONLY – 4:30 – 5:15 PMCHAMBER/MASTERSINGERS – 5:15-9:00 PMAMBASSADOR – 6:30-9:00 PMALL AMBASSADOR/ALUMNI/MEN – 7:30 – 9:00 PM \nAs always watch for updates/changes as the dates near.
URL:https://www.appletonboychoir.com/event/ambassador-all-men-rehearsal-see-details-for-times/
LOCATION:Fox Cities Performing Arts Center\, 400 W College Ave\, Appleton\, WI 54911\, USA\, 100 W College Ave\, United States
CATEGORIES:parent-events
GEO:44.261817;-88.405949
X-APPLE-STRUCTURED-LOCATION;VALUE=URI;X-ADDRESS=Fox Cities Performing Arts Center 400 W College Ave Appleton WI 54911 USA 100 W College Ave United States;X-APPLE-RADIUS=500;X-TITLE=100 W College Ave:geo:-88.405949,44.261817
END:VEVENT
BEGIN:VEVENT
DTSTART;TZID=America/Chicago:20190419T163000
DTEND;TZID=America/Chicago:20190419T210000
DTSTAMP:20260423T030056
CREATED:20190313T193928Z
LAST-MODIFIED:20240930T205204Z
UID:10000084-1555691400-1555707600@www.appletonboychoir.com
SUMMARY:ChamberSingers Rehearsal
DESCRIPTION:ChamberSingers & MasterSingers rehearsal.
URL:https://www.appletonboychoir.com/event/chambersingers-rehearsal-15/
LOCATION:Fox Cities Performing Arts Center\, 400 W College Ave\, Appleton\, WI 54911\, USA\, 100 W College Ave\, United States
CATEGORIES:parent-events
GEO:44.261817;-88.405949
X-APPLE-STRUCTURED-LOCATION;VALUE=URI;X-ADDRESS=Fox Cities Performing Arts Center 400 W College Ave Appleton WI 54911 USA 100 W College Ave United States;X-APPLE-RADIUS=500;X-TITLE=100 W College Ave:geo:-88.405949,44.261817
END:VEVENT
BEGIN:VEVENT
DTSTART;TZID=America/Chicago:20190418T160000
DTEND;TZID=America/Chicago:20190418T173000
DTSTAMP:20260423T030056
CREATED:20190204T200153Z
LAST-MODIFIED:20240930T205204Z
UID:10000065-1555603200-1555608600@www.appletonboychoir.com
SUMMARY:ChamberSingers Rehearsal
DESCRIPTION:ChamberSingers weekly rehearsal – Choir Room – enter through Door 7 on the north-west corner parking lot.
URL:https://www.appletonboychoir.com/event/chambersingers-rehearsal-13/
LOCATION:Appleton West High School\, 610 N Badger Ave\, Appleton\, WI 54914\, USA\, 130 N Badger Ave\, United States
CATEGORIES:parent-events
GEO:44.262353;-88.421258
X-APPLE-STRUCTURED-LOCATION;VALUE=URI;X-ADDRESS=Appleton West High School 610 N Badger Ave Appleton WI 54914 USA 130 N Badger Ave United States;X-APPLE-RADIUS=500;X-TITLE=130 N Badger Ave:geo:-88.421258,44.262353
END:VEVENT
BEGIN:VEVENT
DTSTART;TZID=America/Chicago:20190417T180000
DTEND;TZID=America/Chicago:20190417T200000
DTSTAMP:20260423T030056
CREATED:20190313T193928Z
LAST-MODIFIED:20240930T205204Z
UID:10000083-1555524000-1555531200@www.appletonboychoir.com
SUMMARY:ChamberSingers Rehearsal
DESCRIPTION:ChamberSingers & MasterSingers rehearsal – Choir Room – enter through Door 7 on the north-west corner parking lot.
URL:https://www.appletonboychoir.com/event/chambersingers-rehearsal-14/
LOCATION:Appleton West High School\, 610 N Badger Ave\, Appleton\, WI 54914\, USA\, 130 N Badger Ave\, United States
CATEGORIES:parent-events
GEO:44.262353;-88.421258
X-APPLE-STRUCTURED-LOCATION;VALUE=URI;X-ADDRESS=Appleton West High School 610 N Badger Ave Appleton WI 54914 USA 130 N Badger Ave United States;X-APPLE-RADIUS=500;X-TITLE=130 N Badger Ave:geo:-88.421258,44.262353
END:VEVENT
BEGIN:VEVENT
DTSTART;TZID=America/Chicago:20190318T163000
DTEND;TZID=America/Chicago:20190318T171500
DTSTAMP:20260423T030056
CREATED:20190204T200151Z
LAST-MODIFIED:20240930T205204Z
UID:10000064-1552926600-1552929300@www.appletonboychoir.com
SUMMARY:Repertoire Rehearsal
DESCRIPTION:Repertoire Choir weekly rehearsals
URL:https://www.appletonboychoir.com/event/repertoire-rehearsal-7/
LOCATION:First Congregational United Church of Christ\, 724 E South River St\, Appleton\, WI 54915\, USA\, 200 E South River St\, United States
CATEGORIES:parent-events
GEO:44.253676;-88.403683
X-APPLE-STRUCTURED-LOCATION;VALUE=URI;X-ADDRESS=First Congregational United Church of Christ 724 E South River St Appleton WI 54915 USA 200 E South River St United States;X-APPLE-RADIUS=500;X-TITLE=200 E South River St:geo:-88.403683,44.253676
END:VEVENT
BEGIN:VEVENT
DTSTART;TZID=America/Chicago:20190318T160000
DTEND;TZID=America/Chicago:20190318T173000
DTSTAMP:20260423T030056
CREATED:20190204T200151Z
LAST-MODIFIED:20240930T205204Z
UID:10000063-1552924800-1552930200@www.appletonboychoir.com
SUMMARY:Ambassador Rehearsals
DESCRIPTION:Ambassador Choir weekly Rehearsals – Choir Room – enter through Door 7 on the north-west corner parking lot.
URL:https://www.appletonboychoir.com/event/ambassador-rehearsals-7/
LOCATION:Appleton West High School\, 610 N Badger Ave\, Appleton\, WI 54914\, USA\, 130 N Badger Ave\, United States
CATEGORIES:parent-events
GEO:44.262353;-88.421258
X-APPLE-STRUCTURED-LOCATION;VALUE=URI;X-ADDRESS=Appleton West High School 610 N Badger Ave Appleton WI 54914 USA 130 N Badger Ave United States;X-APPLE-RADIUS=500;X-TITLE=130 N Badger Ave:geo:-88.421258,44.262353
END:VEVENT
END:VCALENDAR