BEGIN:VCALENDAR
VERSION:2.0
PRODID:-//Appleton Boychoir - ECPv6.15.19//NONSGML v1.0//EN
CALSCALE:GREGORIAN
METHOD:PUBLISH
X-WR-CALNAME:Appleton Boychoir
X-ORIGINAL-URL:https://www.appletonboychoir.com
X-WR-CALDESC:Events for Appleton Boychoir
REFRESH-INTERVAL;VALUE=DURATION:PT1H
X-Robots-Tag:noindex
X-PUBLISHED-TTL:PT1H
BEGIN:VTIMEZONE
TZID:America/Chicago
BEGIN:DAYLIGHT
TZOFFSETFROM:-0600
TZOFFSETTO:-0500
TZNAME:CDT
DTSTART:20230312T080000
END:DAYLIGHT
BEGIN:STANDARD
TZOFFSETFROM:-0500
TZOFFSETTO:-0600
TZNAME:CST
DTSTART:20231105T070000
END:STANDARD
BEGIN:DAYLIGHT
TZOFFSETFROM:-0600
TZOFFSETTO:-0500
TZNAME:CDT
DTSTART:20240310T080000
END:DAYLIGHT
BEGIN:STANDARD
TZOFFSETFROM:-0500
TZOFFSETTO:-0600
TZNAME:CST
DTSTART:20241103T070000
END:STANDARD
BEGIN:DAYLIGHT
TZOFFSETFROM:-0600
TZOFFSETTO:-0500
TZNAME:CDT
DTSTART:20250309T080000
END:DAYLIGHT
BEGIN:STANDARD
TZOFFSETFROM:-0500
TZOFFSETTO:-0600
TZNAME:CST
DTSTART:20251102T070000
END:STANDARD
BEGIN:DAYLIGHT
TZOFFSETFROM:-0600
TZOFFSETTO:-0500
TZNAME:CDT
DTSTART:20260308T080000
END:DAYLIGHT
BEGIN:STANDARD
TZOFFSETFROM:-0500
TZOFFSETTO:-0600
TZNAME:CST
DTSTART:20261101T070000
END:STANDARD
BEGIN:DAYLIGHT
TZOFFSETFROM:-0600
TZOFFSETTO:-0500
TZNAME:CDT
DTSTART:20270314T080000
END:DAYLIGHT
BEGIN:STANDARD
TZOFFSETFROM:-0500
TZOFFSETTO:-0600
TZNAME:CST
DTSTART:20271107T070000
END:STANDARD
END:VTIMEZONE
BEGIN:VEVENT
DTSTART;TZID=America/Chicago:20240210T190000
DTEND;TZID=America/Chicago:20240210T190000
DTSTAMP:20260422T174830
CREATED:20240129T214715Z
LAST-MODIFIED:20240930T205202Z
UID:10000111-1707591600-1707591600@www.appletonboychoir.com
SUMMARY:ALMA CARIBE…Caribbean Soul!
DESCRIPTION:The warm Island sun and the sound of ocean surf will come to the Valley on February 10\, 2024.  The Appleton Boychoir along with Appleton’s very own SALSA MANZANA are sure to melt the winter away! \nFeaturing traditional Latin music of Cuba\, Puerto Rico\, Jamaica\, and the Dominican Republic\, Alma Caribe will indeed bring Caribbean Soul.  Wear your sandals…feel a little sand between your toes and you enjoy the colorful and rhythmic music of the islands.
URL:https://www.appletonboychoir.com/event/alma-caribecaribbean-soul/
LOCATION:Lawrence Memorial Chapel\, 510 E College Ave\, Appleton\, WI 54911\, USA\, Lawrence Memorial Chapel\, 510 E College Ave\, Appleton\, WI\, 54911\, United States
CATEGORIES:Public Concerts,Show on Homepage
ATTACH;FMTTYPE=image/jpeg:https://www.appletonboychoir.com/wp-content/uploads/2024/01/ABC-Alma-Caribe-Ticket-Poster.jpg
ORGANIZER;CN="Appleton Boychoir":MAILTO:info@appletonboychoir.com
END:VEVENT
BEGIN:VEVENT
DTSTART;TZID=America/Chicago:20240504T150000
DTEND;TZID=America/Chicago:20240504T150000
DTSTAMP:20260422T174830
CREATED:20240129T215151Z
LAST-MODIFIED:20240930T205202Z
UID:10000154-1714834800-1714834800@www.appletonboychoir.com
SUMMARY:KONCERT FOR KIDS…with SteveSongs
DESCRIPTION:Kids of all ages are in for a treat!  Steve Roslonek\, of SteveSongs will join the Appleton Boychoir as they present a program of music\, stories\, and fun for kids\, families\, and the entire community.  The performance will be what the Boston Globe called “not just a musical journey\, but and entertaining\, interactive and educational one.”  \nFamiliar to Wisconsin Public Television audiences and particularly PBS Kids programming\, Steve will make you laugh\, get you to sing\, and engage the entire audience in a mix of clever stories and lovely melodies.  Often called a “modern day Pied Piper\, the Appleton Boychoir is excited to share the stage with Steve Roslonek for this unique concert.
URL:https://www.appletonboychoir.com/event/koncert-for-kidswith-stevesongs/
LOCATION:Fox Valley PAC\, 400 E College Ave\, Appleton\, WI 54911\, 400 E College Ave\, Appleton\, WI\, 54911\, United States
CATEGORIES:Public Concerts,Show on Homepage
ATTACH;FMTTYPE=image/jpeg:https://www.appletonboychoir.com/wp-content/uploads/2024/01/ABC-Koncert-for-Kids-Poster.jpg
ORGANIZER;CN="Appleton Boychoir":MAILTO:info@appletonboychoir.com
GEO:44.261817;-88.405949
X-APPLE-STRUCTURED-LOCATION;VALUE=URI;X-ADDRESS=Fox Valley PAC 400 E College Ave Appleton WI 54911 400 E College Ave Appleton WI 54911 United States;X-APPLE-RADIUS=500;X-TITLE=400 E College Ave:geo:-88.405949,44.261817
END:VEVENT
BEGIN:VEVENT
DTSTART;TZID=America/Chicago:20241214T130000
DTEND;TZID=America/Chicago:20241214T130000
DTSTAMP:20260422T174830
CREATED:20241014T184829Z
LAST-MODIFIED:20241118T204053Z
UID:10000156-1734181200-1734181200@www.appletonboychoir.com
SUMMARY:A Festival of Nine Lessons and Carols - Saturday Matinee
DESCRIPTION:It all begins with a quiet voice…a solo boy soprano. Then a grand procession of singers to the stage accompanied by the majestic pipes of the Brombaugh organ. Finally\, a trumpeting brass choir joins and Christmas is welcomed once more! \nA Festival of Nine Lessons and Carols has been community tradition for nearly half a century. The Appleton Boychoir and MasterSingers\, along with the Copper Street Brass share beautiful Yuletide hymns and traditional songs of the season. Share the magic of Christmas with the Appleton Boychoir at the Lawrence University Memorial Chapel.
URL:https://www.appletonboychoir.com/event/a-festival-of-nine-lessons-and-carols-saturday-matinee/
LOCATION:Lawrence Memorial Chapel\, 510 E College Ave\, Appleton\, WI\, 54911\, United States
CATEGORIES:Public Concerts,Show on Homepage
ATTACH;FMTTYPE=image/jpeg:https://www.appletonboychoir.com/wp-content/uploads/2024/10/ABC-Concert-Poster-Lessons-and-Carols-20241214.jpg
ORGANIZER;CN="Appleton Boychoir":MAILTO:info@appletonboychoir.com
END:VEVENT
BEGIN:VEVENT
DTSTART;TZID=America/Chicago:20241214T160000
DTEND;TZID=America/Chicago:20241214T160000
DTSTAMP:20260422T174830
CREATED:20241014T185210Z
LAST-MODIFIED:20241118T204033Z
UID:10000157-1734192000-1734192000@www.appletonboychoir.com
SUMMARY:A Festival of Nine Lessons and Carols - Saturday Evening
DESCRIPTION:It all begins with a quiet voice…a solo boy soprano. Then a grand procession of singers to the stage accompanied by the majestic pipes of the Brombaugh organ. Finally\, a trumpeting brass choir joins and Christmas is welcomed once more! \nA Festival of Nine Lessons and Carols has been community tradition for nearly half a century. The Appleton Boychoir and MasterSingers\, along with the Copper Street Brass share beautiful Yuletide hymns and traditional songs of the season. Share the magic of Christmas with the Appleton Boychoir at the Lawrence University Memorial Chapel.
URL:https://www.appletonboychoir.com/event/a-festival-of-nine-lessons-and-carols-saturday-evening/
LOCATION:Lawrence Memorial Chapel\, 510 E College Ave\, Appleton\, WI\, 54911\, United States
CATEGORIES:Public Concerts,Show on Homepage
ATTACH;FMTTYPE=image/jpeg:https://www.appletonboychoir.com/wp-content/uploads/2024/10/ABC-Concert-Poster-Lessons-and-Carols-20241214.jpg
ORGANIZER;CN="Appleton Boychoir":MAILTO:info@appletonboychoir.com
END:VEVENT
BEGIN:VEVENT
DTSTART;TZID=America/Chicago:20250222T190000
DTEND;TZID=America/Chicago:20250222T190000
DTSTAMP:20260422T174830
CREATED:20241014T185712Z
LAST-MODIFIED:20241118T204011Z
UID:10000158-1740250800-1740250800@www.appletonboychoir.com
SUMMARY:The MASTERWORKS Concert
DESCRIPTION:Experience an enchanting evening of music that will transport you to an elegant time…a time where beautiful Baroque concert halls were lit by candles\, and the sound of violins and voices were in the air. The Appleton Boychoir and special guest the Oshkosh Chamber Singers present their MasterWorks concert. This special performance features the music of Mozart\, Haydn\, Martini\, and others. Classical period works accompanied by strings will be featured along with a few diverse musical treats. \nThe Appleton Boychoir invites you to join them for an unforgettable concert of timeless music.
URL:https://www.appletonboychoir.com/event/the-masterworks-concert/
LOCATION:Belfry Hall\, 900 N Mason St\, Appleton\, WI\, 54914\, United States
CATEGORIES:Public Concerts,Show on Homepage
ATTACH;FMTTYPE=image/jpeg:https://www.appletonboychoir.com/wp-content/uploads/2024/10/ABC-Concert-Poster-The-Masterworks-20250222.jpg
ORGANIZER;CN="Appleton Boychoir":MAILTO:info@appletonboychoir.com
END:VEVENT
BEGIN:VEVENT
DTSTART;TZID=America/Chicago:20250426T160000
DTEND;TZID=America/Chicago:20250426T160000
DTSTAMP:20260422T174830
CREATED:20241014T190001Z
LAST-MODIFIED:20241118T203943Z
UID:10000159-1745683200-1745683200@www.appletonboychoir.com
SUMMARY:AMERICA IN SONG ...the Hopes\, Dreams\, and Fears of a Young Nation
DESCRIPTION:America’s journey can be told through the music of our people. It stretches across the Atlantic Ocean back to the Old World. Songs tell the story of the ordinary and extraordinary people who have lived and developed our young country. America in Song follows a musical path from the Colonial Period and American Revolution through the music of the Sea of Immigration and through the Twentieth Century. \nThe Appleton Boychoir and special guest Matthew Sabatella will share ballads\, railroad and cowboy songs\, work songs\, sea chanties\, Appalachian\, and musical stories we simply call folk songs. Don’t miss this very special concert…AMERICA IN SONG…the hopes\, dreams and fears of a young nation.
URL:https://www.appletonboychoir.com/event/america-in-song-the-hopes-dreams-and-fears-of-a-young-nation/
LOCATION:Lawrence Memorial Chapel\, 510 E College Ave\, Appleton\, WI\, 54911\, United States
CATEGORIES:Public Concerts,Show on Homepage
ATTACH;FMTTYPE=image/jpeg:https://www.appletonboychoir.com/wp-content/uploads/2024/10/ABC-Concert-Poster-America-In-Song-20250426.jpg
ORGANIZER;CN="Appleton Boychoir":MAILTO:info@appletonboychoir.com
END:VEVENT
BEGIN:VEVENT
DTSTART;TZID=America/Chicago:20251213T130000
DTEND;TZID=America/Chicago:20251213T130000
DTSTAMP:20260422T174830
CREATED:20251105T213806Z
LAST-MODIFIED:20251105T213806Z
UID:10000160-1765630800-1765630800@www.appletonboychoir.com
SUMMARY:A Festival of Nine Lessons and Carols - Saturday Matinee
DESCRIPTION:It all begins with a quiet voice…a solo boy soprano. Then a grand procession of singers to the stage accompanied by the majestic pipes of the Brombaugh organ. Finally\, a trumpeting brass choir joins and Christmas is welcomed once more! \nThe angelic voices of the Appleton Boychoir present A FESTIVAL OF NINE LESSONS AND CAROLS. One hundred men and boys are joined by Copper Street Brass\, instrumentalists of all kinds\, and organist Devin Atteln. From one lone voice to soaring descants and hymns rich with seasonal joy…the imposing beauty of the Lawrence Memorial Chapel will ring with the sounds of Christmas!
URL:https://www.appletonboychoir.com/event/a-festival-of-nine-lessons-and-carols-saturday-matinee-2/
LOCATION:Lawrence Memorial Chapel\, 510 E College Ave\, Appleton\, WI\, 54911\, United States
CATEGORIES:Public Concerts,Show on Homepage
ORGANIZER;CN="Appleton Boychoir":MAILTO:info@appletonboychoir.com
END:VEVENT
BEGIN:VEVENT
DTSTART;TZID=America/Chicago:20251213T160000
DTEND;TZID=America/Chicago:20251213T160000
DTSTAMP:20260422T174830
CREATED:20251105T213933Z
LAST-MODIFIED:20251105T213933Z
UID:10000161-1765641600-1765641600@www.appletonboychoir.com
SUMMARY:A Festival of Nine Lessons and Carols - Saturday Evening
DESCRIPTION:It all begins with a quiet voice…a solo boy soprano. Then a grand procession of singers to the stage accompanied by the majestic pipes of the Brombaugh organ. Finally\, a trumpeting brass choir joins and Christmas is welcomed once more! \nThe angelic voices of the Appleton Boychoir present A FESTIVAL OF NINE LESSONS AND CAROLS. One hundred men and boys are joined by Copper Street Brass\, instrumentalists of all kinds\, and organist Devin Atteln. From one lone voice to soaring descants and hymns rich with seasonal joy…the imposing beauty of the Lawrence Memorial Chapel will ring with the sounds of Christmas!
URL:https://www.appletonboychoir.com/event/a-festival-of-nine-lessons-and-carols-saturday-evening-2/
LOCATION:Lawrence Memorial Chapel\, 510 E College Ave\, Appleton\, WI\, 54911\, United States
CATEGORIES:Public Concerts,Show on Homepage
ORGANIZER;CN="Appleton Boychoir":MAILTO:info@appletonboychoir.com
END:VEVENT
BEGIN:VEVENT
DTSTART;TZID=America/Chicago:20260307T160000
DTEND;TZID=America/Chicago:20260307T160000
DTSTAMP:20260422T174830
CREATED:20251105T214358Z
LAST-MODIFIED:20251105T214358Z
UID:10000162-1772899200-1772899200@www.appletonboychoir.com
SUMMARY:BLESS THE BEASTS AND THE CHILDREN...the United Nations International Children's Emergency Fund Concert
DESCRIPTION:BLESS THE BEASTS AND THE CHILDREN…the United Nations International Children’s Emergency Fund Concert \nOne Performance Only\, Saturday\, March 7\, 2026- 4:00 PM  Lawrence Memorial Chapel \nThe Appleton Boychoir\, with special guests Unity Dance & Acrobatics\, the Classical and Horizons Elementary School Choirs\, present a concert dedicated to children worldwide. The performance will recognize the eightieth anniversary of UNICEF and its mission to protect the rights of every child\, ensuring their growth\, development\, and potential are realized. This musically rich\, entertaining yet powerful program\, is sure to inspire. Don’t miss BLESS THE BEASTS AND THE CHILDREN.
URL:https://www.appletonboychoir.com/event/bless-the-beasts-and-the-children-the-united-nations-international-childrens-emergency-fund-concert/
LOCATION:Lawrence Memorial Chapel\, 510 E College Ave\, Appleton\, WI\, 54911\, United States
CATEGORIES:Public Concerts,Show on Homepage
ORGANIZER;CN="Appleton Boychoir":MAILTO:info@appletonboychoir.com
END:VEVENT
BEGIN:VEVENT
DTSTART;TZID=America/Chicago:20260502T160000
DTEND;TZID=America/Chicago:20260502T160000
DTSTAMP:20260422T174830
CREATED:20251105T214640Z
LAST-MODIFIED:20251105T214640Z
UID:10000163-1777737600-1777737600@www.appletonboychoir.com
SUMMARY:AMERICA 250...the Sound of Liberty
DESCRIPTION:AMERICA 250…the Sound of Liberty \nOne Performance Only\, Saturday\, May 2\, 2026 – 4:00 PM  Lawrence Memorial Chapel \nThe Appleton Boychoir celebrates the birthday of our nation with familiar melodies of our homeland. From folksongs such as CINDY to the familiar patriotic melody of Yankee Doodle\, this concert will have something for everyone. The boys will be joined by special guests The Wisconsin Symphonic Winds and conductor Devin Otto. They will combine musical forces and raise a musical flag saluting 250 years. America 250…the Sound of Liberty Concert!
URL:https://www.appletonboychoir.com/event/america-250-the-sound-of-liberty/
LOCATION:Lawrence Memorial Chapel\, 510 E College Ave\, Appleton\, WI\, 54911\, United States
CATEGORIES:Public Concerts,Show on Homepage
ORGANIZER;CN="Appleton Boychoir":MAILTO:info@appletonboychoir.com
END:VEVENT
END:VCALENDAR