BEGIN:VCALENDAR
VERSION:2.0
PRODID:-//Appleton Boychoir - ECPv6.15.19//NONSGML v1.0//EN
CALSCALE:GREGORIAN
METHOD:PUBLISH
X-ORIGINAL-URL:https://www.appletonboychoir.com
X-WR-CALDESC:Events for Appleton Boychoir
REFRESH-INTERVAL;VALUE=DURATION:PT1H
X-Robots-Tag:noindex
X-PUBLISHED-TTL:PT1H
BEGIN:VTIMEZONE
TZID:America/Chicago
BEGIN:DAYLIGHT
TZOFFSETFROM:-0600
TZOFFSETTO:-0500
TZNAME:CDT
DTSTART:20250309T080000
END:DAYLIGHT
BEGIN:STANDARD
TZOFFSETFROM:-0500
TZOFFSETTO:-0600
TZNAME:CST
DTSTART:20251102T070000
END:STANDARD
BEGIN:DAYLIGHT
TZOFFSETFROM:-0600
TZOFFSETTO:-0500
TZNAME:CDT
DTSTART:20260308T080000
END:DAYLIGHT
BEGIN:STANDARD
TZOFFSETFROM:-0500
TZOFFSETTO:-0600
TZNAME:CST
DTSTART:20261101T070000
END:STANDARD
BEGIN:DAYLIGHT
TZOFFSETFROM:-0600
TZOFFSETTO:-0500
TZNAME:CDT
DTSTART:20270314T080000
END:DAYLIGHT
BEGIN:STANDARD
TZOFFSETFROM:-0500
TZOFFSETTO:-0600
TZNAME:CST
DTSTART:20271107T070000
END:STANDARD
END:VTIMEZONE
BEGIN:VEVENT
DTSTART;TZID=America/Chicago:20260502T160000
DTEND;TZID=America/Chicago:20260502T160000
DTSTAMP:20260421T111447
CREATED:20251105T214640Z
LAST-MODIFIED:20251105T214640Z
UID:10000163-1777737600-1777737600@www.appletonboychoir.com
SUMMARY:AMERICA 250...the Sound of Liberty
DESCRIPTION:AMERICA 250…the Sound of Liberty \nOne Performance Only\, Saturday\, May 2\, 2026 – 4:00 PM  Lawrence Memorial Chapel \nThe Appleton Boychoir celebrates the birthday of our nation with familiar melodies of our homeland. From folksongs such as CINDY to the familiar patriotic melody of Yankee Doodle\, this concert will have something for everyone. The boys will be joined by special guests The Wisconsin Symphonic Winds and conductor Devin Otto. They will combine musical forces and raise a musical flag saluting 250 years. America 250…the Sound of Liberty Concert!
URL:https://www.appletonboychoir.com/event/america-250-the-sound-of-liberty/
LOCATION:Lawrence Memorial Chapel\, 510 E College Ave\, Appleton\, WI\, 54911\, United States
CATEGORIES:Public Concerts,Show on Homepage
ORGANIZER;CN="Appleton Boychoir":MAILTO:info@appletonboychoir.com
END:VEVENT
END:VCALENDAR